BEGIN:VCALENDAR
VERSION:2.0
CALSCALE:GREGORIAN
PRODID:-//Diputació de Barcelona//DibaCMS//EN
BEGIN:VEVENT
UID:4951
DTSTAMP:20260422T155604
DTSTART:20260422T000000
DTEND:20320401T000000
SUMMARY:El Casal i les Colònies d’estiu de l’Esplai l’Esclat tornen a Dosrius aquest 2026
LOCATION:
METHOD:PUBLISH
X-WR-CALNAME:dosrius@dosrius.cat
X-WR-TIMEZONE:Europe/Madrid
DESCRIPTION:
L’activitat tindrà lloc del 22 de juny al 17 de juliol i inclourà excursions, activitats a la natura i una estada de colònies a Porqueres

URI:https://www.dosrius.cat/actualitat/noticies/el-casal-i-les-colonies-destiu-de-lesplai-lesclat-tornen-a-dosrius-aquest-2026.html
CLASS:PUBLIC
END:VEVENT
END:VCALENDAR
