BEGIN:VCALENDAR
VERSION:2.0
CALSCALE:GREGORIAN
PRODID:-//Diputació de Barcelona//DibaCMS//EN
BEGIN:VEVENT
UID:4950
DTSTAMP:20260420T150356
DTSTART:20260420T000000
DTEND:20310405T000000
SUMMARY:Recordatori dels horaris dels consultoris mèdics de Dosrius, Canyamars i Can Massuet
LOCATION:
METHOD:PUBLISH
X-WR-CALNAME:dosrius@dosrius.cat
X-WR-TIMEZONE:Europe/Madrid
DESCRIPTION:
Consulteu els horaris dels tres equipaments per garantir l’atenció sanitària al municipi

URI:https://www.dosrius.cat/actualitat/noticies/recordatori-dels-horaris-dels-consultoris-medics-de-dosrius-canyamars-i-can-massuet.html
CLASS:PUBLIC
END:VEVENT
END:VCALENDAR
