BEGIN:VCALENDAR
VERSION:2.0
CALSCALE:GREGORIAN
PRODID:-//Diputació de Barcelona//DibaCMS//EN
BEGIN:VEVENT
UID:4949
DTSTAMP:20260420T145710
DTSTART:20260420T000000
DTEND:20320402T000000
SUMMARY:Dosrius inicia els treballs de manteniment de les franges de protecció contra incendis a tot el municipi
LOCATION:
METHOD:PUBLISH
X-WR-CALNAME:dosrius@dosrius.cat
X-WR-TIMEZONE:Europe/Madrid
DESCRIPTION:
Les actuacions s’allargaran aproximadament un mes i es duran a terme als diferents nuclis i urbanitzacions per reforçar la seguretat davant el risc d’incendi forestal

URI:https://www.dosrius.cat/actualitat/noticies/dosrius-inicia-els-treballs-de-manteniment-de-les-franges-de-proteccio-contra-incendis-a-tot-el-municipi.html
CLASS:PUBLIC
END:VEVENT
END:VCALENDAR
