BEGIN:VCALENDAR
VERSION:2.0
CALSCALE:GREGORIAN
PRODID:-//Diputació de Barcelona//DibaCMS//EN
BEGIN:VEVENT
UID:4947
DTSTAMP:20260421T145904
DTSTART:20260420T000000
DTEND:20260425T000000
SUMMARY:Sant Jordi a Dosrius
LOCATION:
METHOD:PUBLISH
X-WR-CALNAME:dosrius@dosrius.cat
X-WR-TIMEZONE:Europe/Madrid
DESCRIPTION:
URI:https://www.dosrius.cat/actualitat/agenda/4947-sant-jordi-a-dosrius.html
CLASS:PUBLIC
END:VEVENT
END:VCALENDAR
