BEGIN:VCALENDAR
VERSION:2.0
CALSCALE:GREGORIAN
PRODID:-//Diputació de Barcelona//DibaCMS//EN
BEGIN:VEVENT
UID:4946
DTSTAMP:20260419T190301
DTSTART:20260426T120000
DTEND:20260426T140000
SUMMARY:Xerrada: Com pots fer compost?
LOCATION:
METHOD:PUBLISH
X-WR-CALNAME:dosrius@dosrius.cat
X-WR-TIMEZONE:Europe/Madrid
DESCRIPTION:
URI:https://www.dosrius.cat/actualitat/agenda/xerrada-com-pots-fer-compost.html
CLASS:PUBLIC
END:VEVENT
END:VCALENDAR
