BEGIN:VCALENDAR
VERSION:2.0
CALSCALE:GREGORIAN
PRODID:-//Diputació de Barcelona//DibaCMS//EN
BEGIN:VEVENT
UID:4942
DTSTAMP:20260419T174433
DTSTART:20260508T170000
DTEND:20260508T220000
SUMMARY:33a sortida al teatre
LOCATION:
METHOD:PUBLISH
X-WR-CALNAME:dosrius@dosrius.cat
X-WR-TIMEZONE:Europe/Madrid
DESCRIPTION:
URI:https://www.dosrius.cat/actualitat/agenda/33a-sortida-al-teatre.html
CLASS:PUBLIC
END:VEVENT
END:VCALENDAR
