BEGIN:VCALENDAR
VERSION:2.0
CALSCALE:GREGORIAN
PRODID:-//Diputació de Barcelona//DibaCMS//EN
BEGIN:VEVENT
UID:4941
DTSTAMP:20260419T202251
DTSTART:20261017T000000
DTEND:20261018T000000
SUMMARY:Fira del Bosc de Canyamars
LOCATION:
METHOD:PUBLISH
X-WR-CALNAME:dosrius@dosrius.cat
X-WR-TIMEZONE:Europe/Madrid
DESCRIPTION:
URI:https://www.dosrius.cat/actualitat/agenda/fira-del-bosc-de-canyamars.html
CLASS:PUBLIC
END:VEVENT
END:VCALENDAR
