BEGIN:VCALENDAR
VERSION:2.0
CALSCALE:GREGORIAN
PRODID:-//Diputació de Barcelona//DibaCMS//EN
BEGIN:VEVENT
UID:4940
DTSTAMP:20260419T190415
DTSTART:20260426T120000
DTEND:20260426T170000
SUMMARY:Aplec de Sant Marc al Corredor
LOCATION:
METHOD:PUBLISH
X-WR-CALNAME:dosrius@dosrius.cat
X-WR-TIMEZONE:Europe/Madrid
DESCRIPTION:
URI:https://www.dosrius.cat/actualitat/agenda/4940-aplec-de-sant-marc-al-corredor.html
CLASS:PUBLIC
END:VEVENT
END:VCALENDAR
