BEGIN:VCALENDAR
VERSION:2.0
CALSCALE:GREGORIAN
PRODID:-//Diputació de Barcelona//DibaCMS//EN
BEGIN:VEVENT
UID:4939
DTSTAMP:20260419T190143
DTSTART:20260425T180000
DTEND:20260425T200000
SUMMARY:Concert i lectura de textos i poemes d'Esteve Albert i d'altres
LOCATION:
METHOD:PUBLISH
X-WR-CALNAME:dosrius@dosrius.cat
X-WR-TIMEZONE:Europe/Madrid
DESCRIPTION:
URI:https://www.dosrius.cat/actualitat/agenda/concert-i-lectura-de-textos-i-poemes-desteve-albert-i-daltres.html
CLASS:PUBLIC
END:VEVENT
END:VCALENDAR
