BEGIN:VCALENDAR
VERSION:2.0
CALSCALE:GREGORIAN
PRODID:-//Diputació de Barcelona//DibaCMS//EN
BEGIN:VEVENT
UID:4895
DTSTAMP:20260421T133635
DTSTART:20260303T000000
DTEND:20310301T000000
SUMMARY:Els Localets organitzen una sortida cultural a Peñíscola els dies 22 i 23 d’abril
LOCATION:
METHOD:PUBLISH
X-WR-CALNAME:dosrius@dosrius.cat
X-WR-TIMEZONE:Europe/Madrid
DESCRIPTION:
La proposta inclou allotjament, visites guiades, dinars i una excursió a les Coves de Sant Josep, amb inscripcions obertes fins al 10 d’abril.

URI:https://www.dosrius.cat/actualitat/noticies/els-localets-organitzen-una-sortida-cultural-a-peniscola-els-dies-22-i-23-dabril.html
CLASS:PUBLIC
END:VEVENT
END:VCALENDAR
