BEGIN:VCALENDAR
VERSION:2.0
CALSCALE:GREGORIAN
PRODID:-//Diputació de Barcelona//DibaCMS//EN
BEGIN:VEVENT
UID:4832
DTSTAMP:20260423T103011
DTSTART:20251224T000000
DTEND:20301201T000000
SUMMARY:Noves tarifes del transport públic per al 2026 amb el manteniment de la bonificació del 50%
LOCATION:
METHOD:PUBLISH
X-WR-CALNAME:dosrius@dosrius.cat
X-WR-TIMEZONE:Europe/Madrid
DESCRIPTION:
Les noves tarifes entraran en vigor el 15 de gener de 2026 i permetran continuar gaudint de descomptes importants en els abonaments més utilitzats, com la T-usual i la T-jove.

URI:https://www.dosrius.cat/actualitat/noticies/noves-tarifes-del-transport-public-per-al-2026-amb-el-manteniment-de-la-bonificacio-del-50.html
CLASS:PUBLIC
END:VEVENT
END:VCALENDAR
