BEGIN:VCALENDAR
VERSION:2.0
CALSCALE:GREGORIAN
PRODID:-//Diputació de Barcelona//DibaCMS//EN
BEGIN:VEVENT
UID:4831
DTSTAMP:20260421T161036
DTSTART:20251224T000000
DTEND:20301201T000000
SUMMARY:El Bibliobús Montnegre reprendrà el servei a Dosrius el gener de 2026 amb nou horari
LOCATION:
METHOD:PUBLISH
X-WR-CALNAME:dosrius@dosrius.cat
X-WR-TIMEZONE:Europe/Madrid
DESCRIPTION:El servei itinerant funcionarà els dilluns a la tarda fins a la posada en marxa de la nova Biblioteca Municipal

URI:https://www.dosrius.cat/actualitat/noticies/el-bibliobus-montnegre-reprendra-el-servei-a-dosrius-el-gener-de-2026-amb-nou-horari.html
CLASS:PUBLIC
END:VEVENT
END:VCALENDAR
