BEGIN:VCALENDAR
VERSION:2.0
CALSCALE:GREGORIAN
PRODID:-//Diputació de Barcelona//DibaCMS//EN
BEGIN:VEVENT
UID:4829
DTSTAMP:20260421T133555
DTSTART:20251223T000000
DTEND:20301201T000000
SUMMARY:Dosrius analitzarà la cobertura de telefonia mòbil per detectar punts amb mancances de connexió
LOCATION:
METHOD:PUBLISH
X-WR-CALNAME:dosrius@dosrius.cat
X-WR-TIMEZONE:Europe/Madrid
DESCRIPTION:
Localret durà a terme durant el mes de gener un estudi de camp per mesurar la qualitat del senyal al municipi.

URI:https://www.dosrius.cat/actualitat/noticies/dosrius-analitzara-la-cobertura-de-telefonia-mobil-per-detectar-punts-amb-mancances-de-connexio.html
CLASS:PUBLIC
END:VEVENT
END:VCALENDAR
