BEGIN:VCALENDAR
VERSION:2.0
CALSCALE:GREGORIAN
PRODID:-//Diputació de Barcelona//DibaCMS//EN
BEGIN:VEVENT
UID:4827
DTSTAMP:20260421T121053
DTSTART:20251222T000000
DTEND:20370103T000000
SUMMARY:24 de desembre: Ple Municipal Ordinari 
LOCATION:
METHOD:PUBLISH
X-WR-CALNAME:dosrius@dosrius.cat
X-WR-TIMEZONE:Europe/Madrid
DESCRIPTION:La sessió tindrà lloc a la Sala de Plens a les 09.30 h i es podrà seguir en directe a través del canal de YouTube de l'Ajuntament.

URI:https://www.dosrius.cat/actualitat/noticies/24-de-desembre-ple-municipal-ordinari-.html
CLASS:PUBLIC
END:VEVENT
END:VCALENDAR
