BEGIN:VCALENDAR
VERSION:2.0
CALSCALE:GREGORIAN
PRODID:-//Diputació de Barcelona//DibaCMS//EN
BEGIN:VEVENT
UID:4825
DTSTAMP:20260421T122609
DTSTART:20251217T000000
DTEND:20301108T000000
SUMMARY:Finalitzen les obres de millora de la carretera BV-5101 als trams de Can Rimbles, Can Bigues, Cal Estaper i Can Gavarra
LOCATION:
METHOD:PUBLISH
X-WR-CALNAME:dosrius@dosrius.cat
X-WR-TIMEZONE:Europe/Madrid
DESCRIPTION:
Les actuacions han permès millorar la seguretat, la visibilitat i l’estat del paviment en diversos punts de la via

URI:https://www.dosrius.cat/actualitat/noticies/finalitzen-les-obres-de-millora-de-la-carretera-bv-5101-als-trams-de-can-rimbles-can-bigues-cal-estaper-i-can-gavarra.html
CLASS:PUBLIC
END:VEVENT
END:VCALENDAR
