BEGIN:VCALENDAR
VERSION:2.0
CALSCALE:GREGORIAN
PRODID:-//Diputació de Barcelona//DibaCMS//EN
BEGIN:VEVENT
UID:4817
DTSTAMP:20260421T104152
DTSTART:20251215T000000
DTEND:20301201T000000
SUMMARY:ARXIVA’D publica el seu quart número amb una nadala il·lustrada de 1966 com a protagonista
LOCATION:
METHOD:PUBLISH
X-WR-CALNAME:dosrius@dosrius.cat
X-WR-TIMEZONE:Europe/Madrid
DESCRIPTION:
La nova edició de la publicació de l’Arxiu Municipal de Dosrius posa en valor una nadala de Lina Casanovas, poetessa, escriptora i veïna del municipi durant dues dècades.

URI:https://www.dosrius.cat/actualitat/noticies/arxivad-publica-el-seu-quart-numero-amb-una-nadala-illustrada-de-1966-com-a-protagonista.html
CLASS:PUBLIC
END:VEVENT
END:VCALENDAR
