BEGIN:VCALENDAR
VERSION:2.0
CALSCALE:GREGORIAN
PRODID:-//Diputació de Barcelona//DibaCMS//EN
BEGIN:VEVENT
UID:4816
DTSTAMP:20260421T104551
DTSTART:20251215T000000
DTEND:20300712T000000
SUMMARY:Alerta sanitària per la retirada del mercat d’un producte cosmètic de maquillatge
LOCATION:
METHOD:PUBLISH
X-WR-CALNAME:dosrius@dosrius.cat
X-WR-TIMEZONE:Europe/Madrid
DESCRIPTION:
Salut ordena la retirada de diversos lots del producte WET N WILD Proline Felt Tip Eyeliner per incompliment de la normativa europea.

 

URI:https://www.dosrius.cat/actualitat/noticies/alerta-sanitaria-per-la-retirada-del-mercat-dun-producte-cosmetic-de-maquillatge.html
CLASS:PUBLIC
END:VEVENT
END:VCALENDAR
