BEGIN:VCALENDAR
VERSION:2.0
CALSCALE:GREGORIAN
PRODID:-//Diputació de Barcelona//DibaCMS//EN
BEGIN:VEVENT
UID:4814
DTSTAMP:20260421T121126
DTSTART:20251210T000000
DTEND:20261210T000000
SUMMARY:Salut fa obligatori l’ús de la mascareta als centres sanitaris davant l’augment de casos de grip
LOCATION:
METHOD:PUBLISH
X-WR-CALNAME:dosrius@dosrius.cat
X-WR-TIMEZONE:Europe/Madrid
DESCRIPTION:
La mesura ha entrat en vigor aquest dimecres i afecta centres mèdics, hospitals i residències per reforçar la protecció de pacients i professionals.

URI:https://www.dosrius.cat/actualitat/noticies/salut-fa-obligatori-lus-de-la-mascareta-als-centres-sanitaris-davant-laugment-de-casos-de-grip.html
CLASS:PUBLIC
END:VEVENT
END:VCALENDAR
