BEGIN:VCALENDAR
VERSION:2.0
CALSCALE:GREGORIAN
PRODID:-//Diputació de Barcelona//DibaCMS//EN
BEGIN:VEVENT
UID:4812
DTSTAMP:20260423T102734
DTSTART:20251210T000000
DTEND:20311207T000000
SUMMARY:Nou taller de cuina de Nadal: aprèn a preparar un tronc de Nadal!
LOCATION:
METHOD:PUBLISH
X-WR-CALNAME:dosrius@dosrius.cat
X-WR-TIMEZONE:Europe/Madrid
DESCRIPTION:
L’activitat és gratuïta i oberta a totes les persones que vulguin sorprendre família i amics amb un postre tradicional nadalenc.

URI:https://www.dosrius.cat/actualitat/noticies/nou-taller-de-cuina-de-nadal-apren-a-preparar-un-tronc-de-nadal.html
CLASS:PUBLIC
END:VEVENT
END:VCALENDAR
