BEGIN:VCALENDAR
VERSION:2.0
CALSCALE:GREGORIAN
PRODID:-//Diputació de Barcelona//DibaCMS//EN
BEGIN:VEVENT
UID:4810
DTSTAMP:20260421T122823
DTSTART:20251209T000000
DTEND:20301201T000000
SUMMARY:Obert un període de consulta prèvia per elaborar la nova Ordenança d’Intervenció Municipal en l’Edificació i l’Ús del Sòl
LOCATION:
METHOD:PUBLISH
X-WR-CALNAME:dosrius@dosrius.cat
X-WR-TIMEZONE:Europe/Madrid
DESCRIPTION:
L’Ajuntament de Dosrius convida la ciutadania i les entitats a enviar aportacions durant 10 dies hàbils per ajudar a definir la futura ORPIME.

URI:https://www.dosrius.cat/actualitat/noticies/obert-un-periode-de-consulta-previa-per-elaborar-la-nova-ordenanca-dintervencio-municipal-en-ledificacio-i-lus-del-sol.html
CLASS:PUBLIC
END:VEVENT
END:VCALENDAR
