BEGIN:VCALENDAR
VERSION:2.0
CALSCALE:GREGORIAN
PRODID:-//Diputació de Barcelona//DibaCMS//EN
BEGIN:VEVENT
UID:4809
DTSTAMP:20260421T123205
DTSTART:20251209T000000
DTEND:20261209T000000
SUMMARY:Dosrius dona la benvinguda al Nadal amb un ampli programa d’activitats per a tots els públics
LOCATION:
METHOD:PUBLISH
X-WR-CALNAME:dosrius@dosrius.cat
X-WR-TIMEZONE:Europe/Madrid
DESCRIPTION:
Del 12 de desembre al 5 de gener, el municipi acollirà actes festius, fires, tradicions i propostes familiars a Dosrius, Can Massuet i Canyamars.

URI:https://www.dosrius.cat/actualitat/noticies/dosrius-dona-la-benvinguda-al-nadal-amb-un-ampli-programa-dactivitats-per-a-tots-els-publics.html
CLASS:PUBLIC
END:VEVENT
END:VCALENDAR
