BEGIN:VCALENDAR
VERSION:2.0
CALSCALE:GREGORIAN
PRODID:-//Diputació de Barcelona//DibaCMS//EN
BEGIN:VEVENT
UID:4807
DTSTAMP:20260421T161416
DTSTART:20251205T000000
DTEND:20261205T000000
SUMMARY:Dosrius promou l’adopció responsable i la tinença cívica d’animals aquest Nadal
LOCATION:
METHOD:PUBLISH
X-WR-CALNAME:dosrius@dosrius.cat
X-WR-TIMEZONE:Europe/Madrid
DESCRIPTION:
L’Ajuntament de Dosrius fa una crida a l’adopció responsable i recorda les obligacions i compromisos que implica conviure amb un animal de companyia.

URI:https://www.dosrius.cat/actualitat/noticies/dosrius-promou-ladopcio-responsable-i-la-tinenca-civica-danimals-aquest-nadal.html
CLASS:PUBLIC
END:VEVENT
END:VCALENDAR
