BEGIN:VCALENDAR
VERSION:2.0
CALSCALE:GREGORIAN
PRODID:-//Diputació de Barcelona//DibaCMS//EN
BEGIN:VEVENT
UID:4806
DTSTAMP:20260421T173950
DTSTART:20251203T000000
DTEND:20311206T000000
SUMMARY:Dosrius celebrarà la 6a Fira Municipal de Santa Llúcia el 13 de desembre
LOCATION:
METHOD:PUBLISH
X-WR-CALNAME:dosrius@dosrius.cat
X-WR-TIMEZONE:Europe/Madrid
DESCRIPTION:
La Plaça del Comú acollirà una tarda plena d’artesania, gastronomia i ambient nadalenc de 16 a 21 h.

URI:https://www.dosrius.cat/actualitat/noticies/dosrius-celebrara-la-6a-fira-municipal-de-santa-llucia-el-13-de-desembre.html
CLASS:PUBLIC
END:VEVENT
END:VCALENDAR
