BEGIN:VCALENDAR
VERSION:2.0
CALSCALE:GREGORIAN
PRODID:-//Diputació de Barcelona//DibaCMS//EN
BEGIN:VEVENT
UID:4796
DTSTAMP:20260421T162434
DTSTART:20251128T000000
DTEND:20301101T000000
SUMMARY:Inici dels treballs d’obertura de la franja en trams concrets de Can Massuet del far per a la prevenció d’incendis a Dosrius
LOCATION:
METHOD:PUBLISH
X-WR-CALNAME:dosrius@dosrius.cat
X-WR-TIMEZONE:Europe/Madrid
DESCRIPTION:
Les feines d’obertura de la franja es faran a Can Massuet del Far i començaran la setmana vinent amb l’objectiu de reduir el risc de propagació d’incendi a les zones interiors del nucli o urbanitzacions. 

URI:https://www.dosrius.cat/actualitat/noticies/inici-dels-treballs-dobertura-de-la-franja-en-trams-concrets-de-can-massuet-del-far-per-a-la-prevencio-dincendis-a-dosrius.html
CLASS:PUBLIC
END:VEVENT
END:VCALENDAR
