BEGIN:VCALENDAR
VERSION:2.0
CALSCALE:GREGORIAN
PRODID:-//Diputació de Barcelona//DibaCMS//EN
BEGIN:VEVENT
UID:4794
DTSTAMP:20260421T171313
DTSTART:20251127T000000
DTEND:20291102T000000
SUMMARY:Tallers digitals per a la gent gran a Dosrius: “Descobrint el món digital”
LOCATION:
METHOD:PUBLISH
X-WR-CALNAME:dosrius@dosrius.cat
X-WR-TIMEZONE:Europe/Madrid
DESCRIPTION:
El programa Més Digitals arriba al municipi amb una formació pràctica per adquirir competències digitals bàsiques. 

URI:https://www.dosrius.cat/actualitat/noticies/tallers-digitals-per-a-la-gent-gran-a-dosrius-descobrint-el-mon-digital.html
CLASS:PUBLIC
END:VEVENT
END:VCALENDAR
