BEGIN:VCALENDAR
VERSION:2.0
CALSCALE:GREGORIAN
PRODID:-//Diputació de Barcelona//DibaCMS//EN
BEGIN:VEVENT
UID:4793
DTSTAMP:20260421T161109
DTSTART:20251124T000000
DTEND:20311101T000000
SUMMARY:Sortida Pre-nadal dels Localets: visita a Catalunya en Miniatura el 10 de desembre
LOCATION:
METHOD:PUBLISH
X-WR-CALNAME:dosrius@dosrius.cat
X-WR-TIMEZONE:Europe/Madrid
DESCRIPTION:
La proposta inclou esmorzar, entrada al parc, dinar complet i tarda de ball. Les inscripcions estan obertes fins al 4 de desembre.

URI:https://www.dosrius.cat/actualitat/noticies/sortida-pre-nadal-dels-localets-visita-a-catalunya-en-miniatura-el-10-de-desembre.html
CLASS:PUBLIC
END:VEVENT
END:VCALENDAR
