BEGIN:VCALENDAR
VERSION:2.0
CALSCALE:GREGORIAN
PRODID:-//Diputació de Barcelona//DibaCMS//EN
BEGIN:VEVENT
UID:4791
DTSTAMP:20260421T162016
DTSTART:20251120T000000
DTEND:20291102T000000
SUMMARY:Dosrius reforça la gestió preventiva contra la vespa velutina
LOCATION:
METHOD:PUBLISH
X-WR-CALNAME:dosrius@dosrius.cat
X-WR-TIMEZONE:Europe/Madrid
DESCRIPTION:
L’Ajuntament comparteix un text del biòleg Marc Vilamajó i Giol per informar la ciutadania sobre el comportament d’aquest insecte, els riscos reals i les actuacions que es duen a terme al municipi.

URI:https://www.dosrius.cat/actualitat/noticies/dosrius-reforca-la-gestio-preventiva-contra-la-vespa-velutina.html
CLASS:PUBLIC
END:VEVENT
END:VCALENDAR
