BEGIN:VCALENDAR
VERSION:2.0
CALSCALE:GREGORIAN
PRODID:-//Diputació de Barcelona//DibaCMS//EN
BEGIN:VEVENT
UID:4790
DTSTAMP:20260421T133538
DTSTART:20251120T000000
DTEND:20301101T000000
SUMMARY:El 017, el telèfon gratuït de ciberseguretat per resoldre qualsevol dubte o problema digital
LOCATION:
METHOD:PUBLISH
X-WR-CALNAME:dosrius@dosrius.cat
X-WR-TIMEZONE:Europe/Madrid
DESCRIPTION:
INCIBE ofereix un servei confidencial i accessible per ajudar la ciutadania i les empreses davant incidències o sospites de risc a internet.

URI:https://www.dosrius.cat/actualitat/noticies/el-017-el-telefon-gratuit-de-ciberseguretat-per-resoldre-qualsevol-dubte-o-problema-digital.html
CLASS:PUBLIC
END:VEVENT
END:VCALENDAR
