BEGIN:VCALENDAR
VERSION:2.0
CALSCALE:GREGORIAN
PRODID:-//Diputació de Barcelona//DibaCMS//EN
BEGIN:VEVENT
UID:4789
DTSTAMP:20260421T121203
DTSTART:20251120T000000
DTEND:20311101T000000
SUMMARY:Protecció Civil recomana disposar d’un kit d’emergències a casa per afrontar situacions de risc
LOCATION:
METHOD:PUBLISH
X-WR-CALNAME:dosrius@dosrius.cat
X-WR-TIMEZONE:Europe/Madrid
DESCRIPTION:
La Generalitat impulsa una campanya per fomentar l’autoprotecció i la preparació davant confinaments, talls de subministrament o evacuacions.

URI:https://www.dosrius.cat/actualitat/noticies/proteccio-civil-recomana-disposar-dun-kit-demergencies-a-casa-per-afrontar-situacions-de-risc.html
CLASS:PUBLIC
END:VEVENT
END:VCALENDAR
