BEGIN:VCALENDAR
VERSION:2.0
CALSCALE:GREGORIAN
PRODID:-//Diputació de Barcelona//DibaCMS//EN
BEGIN:VEVENT
UID:4788
DTSTAMP:20260421T144819
DTSTART:20251119T000000
DTEND:20321106T000000
SUMMARY:El IX Concurs Fotogràfic de Dosrius, Canyamars i Can Massuet del Far 2025 ja té guanyadors!
LOCATION:
METHOD:PUBLISH
X-WR-CALNAME:dosrius@dosrius.cat
X-WR-TIMEZONE:Europe/Madrid
DESCRIPTION:
El jurat ha guardonat a Eva Lara amb el primer premi d’aquest certamen organitzat per l’Ajuntament. La imatge guanyadora, juntament amb les 12 fotografies premiades, formaran part del calendari de l’any 2026 que publicarà el consistori.

URI:https://www.dosrius.cat/actualitat/noticies/el-ix-concurs-fotografic-de-dosrius-canyamars-i-can-massuet-del-far-2025-ja-te-guanyadors.html
CLASS:PUBLIC
END:VEVENT
END:VCALENDAR
