BEGIN:VCALENDAR
VERSION:2.0
CALSCALE:GREGORIAN
PRODID:-//Diputació de Barcelona//DibaCMS//EN
BEGIN:VEVENT
UID:4787
DTSTAMP:20260421T200703
DTSTART:20251118T000000
DTEND:20311101T000000
SUMMARY:ARXIVA’D presenta el seu tercer número amb una fotografia de Dosrius
LOCATION:
METHOD:PUBLISH
X-WR-CALNAME:dosrius@dosrius.cat
X-WR-TIMEZONE:Europe/Madrid
DESCRIPTION:
La publicació de l’Arxiu Municipal destaca una fotografia del poble de Dosrius del segle XIX i el seu valor documental

URI:https://www.dosrius.cat/actualitat/noticies/arxivad-presenta-el-seu-tercer-numero-amb-una-fotografia-de-dosrius.html
CLASS:PUBLIC
END:VEVENT
END:VCALENDAR
