BEGIN:VCALENDAR
VERSION:2.0
CALSCALE:GREGORIAN
PRODID:-//Diputació de Barcelona//DibaCMS//EN
BEGIN:VEVENT
UID:4784
DTSTAMP:20260421T133625
DTSTART:20251117T000000
DTEND:20301108T000000
SUMMARY:Inici de les obres d’asfaltat de la carretera d’accés a Dosrius
LOCATION:
METHOD:PUBLISH
X-WR-CALNAME:dosrius@dosrius.cat
X-WR-TIMEZONE:Europe/Madrid
DESCRIPTION:
Els treballs, a càrrec de l’empresa Rogasa, començaran el 19 de novembre i s’allargaran fins al 26 de novembre.

URI:https://www.dosrius.cat/actualitat/noticies/inici-de-les-obres-dasfaltat-de-la-carretera-dacces-a-dosrius.html
CLASS:PUBLIC
END:VEVENT
END:VCALENDAR
