BEGIN:VCALENDAR
VERSION:2.0
CALSCALE:GREGORIAN
PRODID:-//Diputació de Barcelona//DibaCMS//EN
BEGIN:VEVENT
UID:4783
DTSTAMP:20260421T133452
DTSTART:20251117T000000
DTEND:20311101T000000
SUMMARY:S’activen mesures de confinament d’aus de corral per prevenir la influença aviària
LOCATION:
METHOD:PUBLISH
X-WR-CALNAME:dosrius@dosrius.cat
X-WR-TIMEZONE:Europe/Madrid
DESCRIPTION:
Per tal de prevenir el contagi i contenir la difusió del virus es demana aplicar mesures a explotacions professionals així com les d’autoconsum o producció local. 

URI:https://www.dosrius.cat/actualitat/noticies/sactiven-mesures-de-confinament-daus-de-corral-per-prevenir-la-influenca-aviaria.html
CLASS:PUBLIC
END:VEVENT
END:VCALENDAR
