BEGIN:VCALENDAR
VERSION:2.0
CALSCALE:GREGORIAN
PRODID:-//Diputació de Barcelona//DibaCMS//EN
BEGIN:VEVENT
UID:4766
DTSTAMP:20260421T121229
DTSTART:20251031T000000
DTEND:20311003T000000
SUMMARY:S’inicien els treballs de manteniment de la llera de la Riera de Canyamars
LOCATION:
METHOD:PUBLISH
X-WR-CALNAME:dosrius@dosrius.cat
X-WR-TIMEZONE:Europe/Madrid
DESCRIPTION:
S’actuarà en el tram comprès entre el Pou de Glaç i  i l’encreuament de la Riera amb el Camí de Dosrius.

URI:https://www.dosrius.cat/actualitat/noticies/sinicien-els-treballs-de-manteniment-de-la-llera-de-la-riera-de-canyamars.html
CLASS:PUBLIC
END:VEVENT
END:VCALENDAR
