BEGIN:VCALENDAR
VERSION:2.0
CALSCALE:GREGORIAN
PRODID:-//Diputació de Barcelona//DibaCMS//EN
BEGIN:VEVENT
UID:4752
DTSTAMP:20260421T133213
DTSTART:20251009T000000
DTEND:20301004T000000
SUMMARY:Torna la Fira del Bosc-Canyamars Medieval
LOCATION:
METHOD:PUBLISH
X-WR-CALNAME:dosrius@dosrius.cat
X-WR-TIMEZONE:Europe/Madrid
DESCRIPTION:
El 18 i 19 d’octubre, el municipi s’omplirà d’espectacles, tallers, música, titelles i ambient d’època per a tota la família

URI:https://www.dosrius.cat/actualitat/noticies/4752-torna-la-fira-del-bosc-canyamars-medieval.html
CLASS:PUBLIC
END:VEVENT
END:VCALENDAR
