BEGIN:VCALENDAR
VERSION:2.0
CALSCALE:GREGORIAN
PRODID:-//Diputació de Barcelona//DibaCMS//EN
BEGIN:VEVENT
UID:4743
DTSTAMP:20260422T103855
DTSTART:20250923T000000
DTEND:20300901T000000
SUMMARY:Recollida de restes vegetals exclusivament amb saques reutilitzables a partir de l’1 d’octubre
LOCATION:
METHOD:PUBLISH
X-WR-CALNAME:dosrius@dosrius.cat
X-WR-TIMEZONE:Europe/Madrid
DESCRIPTION:
Només s’acceptaran restes vegetals dins les saques reutilitzables logotipades, que es poden recollir gratuïtament a l’Ajuntament.

URI:https://www.dosrius.cat/actualitat/noticies/recollida-de-restes-vegetals-exclusivament-amb-saques-reutilitzables-a-partir-de-l1-doctubre.html
CLASS:PUBLIC
END:VEVENT
END:VCALENDAR
