BEGIN:VCALENDAR
VERSION:2.0
CALSCALE:GREGORIAN
PRODID:-//Diputació de Barcelona//DibaCMS//EN
BEGIN:VEVENT
UID:4708
DTSTAMP:20260421T104420
DTSTART:20250928T190000
DTEND:20250928T210000
SUMMARY:Sopar d'entrepans (Festa Major de Can Massuet)
LOCATION:
METHOD:PUBLISH
X-WR-CALNAME:dosrius@dosrius.cat
X-WR-TIMEZONE:Europe/Madrid
DESCRIPTION:
URI:https://www.dosrius.cat/actualitat/agenda/sopar-dentrepans-festa-major-de-can-massuet.html
CLASS:PUBLIC
END:VEVENT
END:VCALENDAR
