BEGIN:VCALENDAR
VERSION:2.0
CALSCALE:GREGORIAN
PRODID:-//Diputació de Barcelona//DibaCMS//EN
BEGIN:VEVENT
UID:4612
DTSTAMP:20260422T145214
DTSTART:20250623T000000
DTEND:20291226T000000
SUMMARY:Dijous 26 de juny: sessió ordinària del Ple municipal
LOCATION:
METHOD:PUBLISH
X-WR-CALNAME:dosrius@dosrius.cat
X-WR-TIMEZONE:Europe/Madrid
DESCRIPTION:
La sessió tindrà lloc a la Sala de Plens de l'Ajuntament a les 09.30 h i es podrà seguir en directe a través del canal de YouTube de l'Ajuntament.


URI:https://www.dosrius.cat/actualitat/noticies/dijous-26-de-juny-sessio-ordinaria-del-ple-municipal.html
CLASS:PUBLIC
END:VEVENT
END:VCALENDAR
