BEGIN:VCALENDAR
VERSION:2.0
CALSCALE:GREGORIAN
PRODID:-//Diputació de Barcelona//DibaCMS//EN
BEGIN:VEVENT
UID:4575
DTSTAMP:20260421T110434
DTSTART:20250527T000000
DTEND:20260527T000000
SUMMARY:Alerta sanitària per la retirada del mercat del producte cosmètic MEDE-H XAMPÚ per risc en la seva composició
LOCATION:
METHOD:PUBLISH
X-WR-CALNAME:dosrius@dosrius.cat
X-WR-TIMEZONE:Europe/Madrid
DESCRIPTION:
L’Agència Espanyola de Medicaments i Productes Sanitaris ordena el cessament de la comercialització del lot 2301 per motius de seguretat

URI:https://www.dosrius.cat/actualitat/noticies/alerta-sanitaria-per-la-retirada-del-mercat-del-producte-cosmetic-mede-h-xampu-per-risc-en-la-seva-composicio.html
CLASS:PUBLIC
END:VEVENT
END:VCALENDAR
