BEGIN:VCALENDAR
VERSION:2.0
CALSCALE:GREGORIAN
PRODID:-//Diputació de Barcelona//DibaCMS//EN
BEGIN:VEVENT
UID:4572
DTSTAMP:20260423T103225
DTSTART:20250527T000000
DTEND:20260527T000000
SUMMARY:L’Arxiu Municipal ofereix assessorament gratuït en conservació i arxiu de documents a particulars
LOCATION:
METHOD:PUBLISH
X-WR-CALNAME:dosrius@dosrius.cat
X-WR-TIMEZONE:Europe/Madrid
DESCRIPTION:
El servei, adreçat a veïns, veïnes i empreses del municipi, té com a objectiu preservar correctament la documentació personal, familiar o patrimonial.

URI:https://www.dosrius.cat/actualitat/noticies/larxiu-municipal-ofereix-assessorament-gratuit-en-conservacio-i-arxiu-de-documents-a-particulars.html
CLASS:PUBLIC
END:VEVENT
END:VCALENDAR
