BEGIN:VCALENDAR
VERSION:2.0
CALSCALE:GREGORIAN
PRODID:-//Diputació de Barcelona//DibaCMS//EN
BEGIN:VEVENT
UID:4570
DTSTAMP:20260421T121039
DTSTART:20250522T000000
DTEND:20310502T000000
SUMMARY:Dosrius promou l’envelliment actiu amb un nou taller de salut per a la gent gran
LOCATION:
METHOD:PUBLISH
X-WR-CALNAME:dosrius@dosrius.cat
X-WR-TIMEZONE:Europe/Madrid
DESCRIPTION:
“Cuida’t per a un envelliment saludable” oferirà consells pràctics per millorar el benestar físic, emocional i social de les persones grans del municipi

URI:https://www.dosrius.cat/actualitat/noticies/dosrius-promou-lenvelliment-actiu-amb-un-nou-taller-de-salut-per-a-la-gent-gran.html
CLASS:PUBLIC
END:VEVENT
END:VCALENDAR
