BEGIN:VCALENDAR
VERSION:2.0
CALSCALE:GREGORIAN
PRODID:-//Diputació de Barcelona//DibaCMS//EN
BEGIN:VEVENT
UID:4564
DTSTAMP:20260421T132052
DTSTART:20250521T000000
DTEND:20310501T000000
SUMMARY:Dosrius es consolida com a municipi cardioprotegit amb 12 DEA repartits pel municipi
LOCATION:
METHOD:PUBLISH
X-WR-CALNAME:dosrius@dosrius.cat
X-WR-TIMEZONE:Europe/Madrid
DESCRIPTION:
Els dos vehicles patrulla ja disposen de desfibril·ladors i s’afegeix un nou DEA a l’interior del Pavelló de Canyamars

URI:https://www.dosrius.cat/actualitat/noticies/dosrius-es-consolida-com-a-municipi-cardioprotegit-amb-12-dea-repartits-pel-municipi.html
CLASS:PUBLIC
END:VEVENT
END:VCALENDAR
