BEGIN:VCALENDAR
VERSION:2.0
CALSCALE:GREGORIAN
PRODID:-//Diputació de Barcelona//DibaCMS//EN
BEGIN:VEVENT
UID:4563
DTSTAMP:20260421T122941
DTSTART:20250521T100000
DTEND:20300502T000000
SUMMARY:Dosrius reorganitza els contenidors de vidre per adaptar-los al nou sistema Porta a Porta
LOCATION:
METHOD:PUBLISH
X-WR-CALNAME:dosrius@dosrius.cat
X-WR-TIMEZONE:Europe/Madrid
DESCRIPTION:
Amb la nova distribució, el municipi passarà de 43 a 32 contenidors, més ben ubicats i adequats a les necessitats actuals

URI:https://www.dosrius.cat/actualitat/noticies/dosrius-reorganitza-els-contenidors-de-vidre-per-adaptar-los-al-nou-sistema-porta-a-porta.html
CLASS:PUBLIC
END:VEVENT
END:VCALENDAR
