BEGIN:VCALENDAR
VERSION:2.0
CALSCALE:GREGORIAN
PRODID:-//Diputació de Barcelona//DibaCMS//EN
BEGIN:VEVENT
UID:4561
DTSTAMP:20260421T120850
DTSTART:20250520T000000
DTEND:20300503T000000
SUMMARY:Sentir el bosc: una experiència de connexió conscient amb la natura a Dosrius
LOCATION:
METHOD:PUBLISH
X-WR-CALNAME:dosrius@dosrius.cat
X-WR-TIMEZONE:Europe/Madrid
DESCRIPTION:
Una activitat gratuïta organitzada pel Centre d’Estudis Esteve Albert i Corp per reconnectar amb la natura a través dels sentits, el silenci i la consciència corporal al cor del Maresme.

URI:https://www.dosrius.cat/actualitat/noticies/sentir-el-bosc-una-experiencia-de-connexio-conscient-amb-la-natura-a-dosrius.html
CLASS:PUBLIC
END:VEVENT
END:VCALENDAR
