BEGIN:VCALENDAR
VERSION:2.0
CALSCALE:GREGORIAN
PRODID:-//Diputació de Barcelona//DibaCMS//EN
BEGIN:VEVENT
UID:4558
DTSTAMP:20260421T121007
DTSTART:20250519T000000
DTEND:20310501T000000
SUMMARY:Dosrius viurà un nou cap de setmana dedicat als animals
LOCATION:
METHOD:PUBLISH
X-WR-CALNAME:dosrius@dosrius.cat
X-WR-TIMEZONE:Europe/Madrid
DESCRIPTION:
El municipi celebra la IX Fira d’Animàlia, 19a edició de la Desfilada Canina Solidària i impulsa una nova campanya de cens gratuït d’animals domèstics

URI:https://www.dosrius.cat/actualitat/noticies/dosrius-viura-un-nou-cap-de-setmana-dedicat-als-animals.html
CLASS:PUBLIC
END:VEVENT
END:VCALENDAR
