BEGIN:VCALENDAR
VERSION:2.0
CALSCALE:GREGORIAN
PRODID:-//Diputació de Barcelona//DibaCMS//EN
BEGIN:VEVENT
UID:4557
DTSTAMP:20260421T145516
DTSTART:20250519T000000
DTEND:20300502T000000
SUMMARY:S’obre el termini per sol·licitar el Bo Lloguer 2025
LOCATION:
METHOD:PUBLISH
X-WR-CALNAME:dosrius@dosrius.cat
X-WR-TIMEZONE:Europe/Madrid
DESCRIPTION:
Les ajudes es poden demanar del 19 al 23 de maig i es tramiten per ordre d’entrada fins a exhaurir el pressupost disponible

URI:https://www.dosrius.cat/actualitat/noticies/sobre-el-termini-per-sollicitar-el-bo-lloguer-2025.html
CLASS:PUBLIC
END:VEVENT
END:VCALENDAR
