BEGIN:VCALENDAR
VERSION:2.0
CALSCALE:GREGORIAN
PRODID:-//Diputació de Barcelona//DibaCMS//EN
BEGIN:VEVENT
UID:4555
DTSTAMP:20260422T103717
DTSTART:20241101T000000
DTEND:20300531T000000
SUMMARY:Nova edició de Dosrius a la xarxa centrada en la recollida selectiva
LOCATION:
METHOD:PUBLISH
X-WR-CALNAME:dosrius@dosrius.cat
X-WR-TIMEZONE:Europe/Madrid
DESCRIPTION:El nou número posa el focus en la gestió de residus i detalla com Dosrius avançarà cap a un model més sostenible amb la recollida porta a porta.

URI:https://www.dosrius.cat/actualitat/noticies/nova-edicio-de-dosrius-a-la-xarxa-centrada-en-la-recollida-selectiva.html
CLASS:PUBLIC
END:VEVENT
END:VCALENDAR
