BEGIN:VCALENDAR
VERSION:2.0
CALSCALE:GREGORIAN
PRODID:-//Diputació de Barcelona//DibaCMS//EN
BEGIN:VEVENT
UID:4533
DTSTAMP:20260422T121917
DTSTART:20250429T000000
DTEND:20290401T000000
SUMMARY:Convocada la setzena edició del Concurs Literari Esteve Albert
LOCATION:
METHOD:PUBLISH
X-WR-CALNAME:dosrius@dosrius.cat
X-WR-TIMEZONE:Europe/Madrid
DESCRIPTION:
Les propostes es poden enviar fins al 6 de juny. 

URI:https://www.dosrius.cat/actualitat/noticies/convocada-la-setzena-edicio-del-concurs-literari-esteve-albert.html
CLASS:PUBLIC
END:VEVENT
END:VCALENDAR
