BEGIN:VCALENDAR
VERSION:2.0
CALSCALE:GREGORIAN
PRODID:-//Diputació de Barcelona//DibaCMS//EN
BEGIN:VEVENT
UID:4518
DTSTAMP:20260422T103704
DTSTART:20250404T000000
DTEND:20310404T000000
SUMMARY:Dosrius torna a obtenir el Segell Infoparticipa pels bons resultats en transparència
LOCATION:
METHOD:PUBLISH
X-WR-CALNAME:dosrius@dosrius.cat
X-WR-TIMEZONE:Europe/Madrid
DESCRIPTION:
El municipi obté el segell InfoParticipa per quart any consecutiu, amb 46 dels 52 indicadors assolits

URI:https://www.dosrius.cat/actualitat/noticies/dosrius-torna-a-obtenir-el-segell-infoparticipa-pels-bons-resultats-en-transparencia.html
CLASS:PUBLIC
END:VEVENT
END:VCALENDAR
