BEGIN:VCALENDAR
VERSION:2.0
CALSCALE:GREGORIAN
PRODID:-//Diputació de Barcelona//DibaCMS//EN
BEGIN:VEVENT
UID:4505
DTSTAMP:20260421T133358
DTSTART:20250328T200000
DTEND:20250330T180000
SUMMARY:Festa de la Carxofa
LOCATION:
METHOD:PUBLISH
X-WR-CALNAME:dosrius@dosrius.cat
X-WR-TIMEZONE:Europe/Madrid
DESCRIPTION:
URI:https://www.dosrius.cat/actualitat/noticies/festa-de-la-carxofa.html
CLASS:PUBLIC
END:VEVENT
END:VCALENDAR
